BEGIN:VCALENDAR
VERSION:2.0
PRODID:LFV Website-Kit
METHOD:PUBLISH
BEGIN:VEVENT
UID:lfv-fc210f21-3c7a-414c-be09-a476d539b53e
LOCATION:
SUMMARY:Webinar der Kreisbrandinspektion
DESCRIPTION:Die Zielgruppe sind Führungskräfte ab Gruppenführer. Trotzdem können sich alle interessierten Feuerwehrleute aus dem Landkreis Cham und darüber hinaus zu diesem Webinar anmelden.\n\nTermin Link: https://www.kfv-cham.de/nachrichten/termine/webinar-der-kreisbrandinspektion-5/
URL:https://www.kfv-cham.de/nachrichten/termine/webinar-der-kreisbrandinspektion-5/
CLASS:PRIVATE
DTSTART;TZID=Europe/Berlin:20260127T190000
DTEND;TZID=Europe/Berlin:20260127T210000
DTSTAMP:20260426T024041Z
END:VEVENT
END:VCALENDAR