BEGIN:VCALENDAR
VERSION:2.0
PRODID:LFV Website-Kit
METHOD:PUBLISH
BEGIN:VEVENT
UID:lfv-7dfed85e-141c-4069-a601-fa6fd17d9067
LOCATION:
SUMMARY:Ehrenabend im KBI-Bereich Roding
DESCRIPTION:Termin Link: https://www.kfv-cham.de/nachrichten/termine/ehrenabend-im-kbi-bereich-roding/
URL:https://www.kfv-cham.de/nachrichten/termine/ehrenabend-im-kbi-bereich-roding/
CLASS:PRIVATE
DTSTART;TZID=Europe/Berlin:20260305T190000
DTEND;TZID=Europe/Berlin:20260305T200000
DTSTAMP:20260420T090702Z
END:VEVENT
END:VCALENDAR