BEGIN:VCALENDAR
VERSION:2.0
PRODID:LFV Website-Kit
METHOD:PUBLISH
BEGIN:VEVENT
UID:lfv-0e2ec6d9-8d97-41f8-91b0-8275a8977895
LOCATION:
SUMMARY:Delegiertenversammlung Kreisjugendfeuerwehr Landkreis Cham
DESCRIPTION:Termin Link: https://www.kfv-cham.de/nachrichten/termine/delegiertenversammlung-kreisjugendfeuerwehr-landkreis-cham/
URL:https://www.kfv-cham.de/nachrichten/termine/delegiertenversammlung-kreisjugendfeuerwehr-landkreis-cham/
CLASS:PRIVATE
DTSTART;TZID=Europe/Berlin:20260708T190000
DTEND;TZID=Europe/Berlin:20260708T220000
DTSTAMP:20260422T004107Z
END:VEVENT
END:VCALENDAR