BEGIN:VCALENDAR
VERSION:2.0
PRODID:LFV Website-Kit
METHOD:PUBLISH
BEGIN:VEVENT
UID:lfv-e3ab1a71-5f22-49f7-a0b0-3c4f080d97f0
LOCATION:
SUMMARY:150 Jahre FF Warzenried
DESCRIPTION:Termin Link: https://www.kfv-cham.de/nachrichten/termine/150-jahre-ff-warzenried/
URL:https://www.kfv-cham.de/nachrichten/termine/150-jahre-ff-warzenried/
CLASS:PRIVATE
DTSTART;TZID=Europe/Berlin:20290626T000000
DTEND;TZID=Europe/Berlin:20290702T235900
DTSTAMP:20260421T214716Z
END:VEVENT
END:VCALENDAR