BEGIN:VCALENDAR
VERSION:2.0
PRODID:LFV Website-Kit
METHOD:PUBLISH
BEGIN:VEVENT
UID:lfv-8290de51-eb38-4e46-b369-2fe7b3a6b678
LOCATION:Sportplatz/Schwarzachhalle Alte Chamer Straße 18 93488 Schönthal
SUMMARY:15. Oberpfalzcup mit Abnahme Bundesleistungsabzeichen
DESCRIPTION:15. Oberpfalzcup mit Abnahme Bundesleistungsabzeichen\n\nTermin Link: https://www.kfv-cham.de/nachrichten/termine/15-oberpfalzcup-mit-abnahme-bundesleistungsabzeichen/
URL:https://www.kfv-cham.de/nachrichten/termine/15-oberpfalzcup-mit-abnahme-bundesleistungsabzeichen/
CLASS:PRIVATE
DTSTART;TZID=Europe/Berlin:20260509T090000
DTEND;TZID=Europe/Berlin:20260509T180000
DTSTAMP:20260419T201628Z
END:VEVENT
END:VCALENDAR