BEGIN:VCALENDAR
VERSION:2.0
PRODID:LFV Website-Kit
METHOD:PUBLISH
BEGIN:VEVENT
UID:lfv-2e05b938-e2e5-4f2c-a648-e872298cf098
LOCATION:
SUMMARY:130 Jahre FF Martinsneukirchen
DESCRIPTION:Termin Link: https://www.kfv-cham.de/nachrichten/termine/130-jahre-ff-martinsneukirchen/
URL:https://www.kfv-cham.de/nachrichten/termine/130-jahre-ff-martinsneukirchen/
CLASS:PRIVATE
DTSTART;TZID=Europe/Berlin:20270618T000000
DTEND;TZID=Europe/Berlin:20270620T235900
DTSTAMP:20260421T214440Z
END:VEVENT
END:VCALENDAR